BEGIN:VCALENDAR
VERSION:2.0
PRODID:-//Gamechangers - ECPv6.15.17.1//NONSGML v1.0//EN
CALSCALE:GREGORIAN
METHOD:PUBLISH
X-WR-CALNAME:Gamechangers
X-ORIGINAL-URL:https://gamechangers.com.es
X-WR-CALDESC:Eventos para Gamechangers
REFRESH-INTERVAL;VALUE=DURATION:PT1H
X-Robots-Tag:noindex
X-PUBLISHED-TTL:PT1H
BEGIN:VTIMEZONE
TZID:Europe/Madrid
BEGIN:DAYLIGHT
TZOFFSETFROM:+0100
TZOFFSETTO:+0200
TZNAME:CEST
DTSTART:20250330T010000
END:DAYLIGHT
BEGIN:STANDARD
TZOFFSETFROM:+0200
TZOFFSETTO:+0100
TZNAME:CET
DTSTART:20251026T010000
END:STANDARD
BEGIN:DAYLIGHT
TZOFFSETFROM:+0100
TZOFFSETTO:+0200
TZNAME:CEST
DTSTART:20260329T010000
END:DAYLIGHT
BEGIN:STANDARD
TZOFFSETFROM:+0200
TZOFFSETTO:+0100
TZNAME:CET
DTSTART:20261025T010000
END:STANDARD
BEGIN:DAYLIGHT
TZOFFSETFROM:+0100
TZOFFSETTO:+0200
TZNAME:CEST
DTSTART:20270328T010000
END:DAYLIGHT
BEGIN:STANDARD
TZOFFSETFROM:+0200
TZOFFSETTO:+0100
TZNAME:CET
DTSTART:20271031T010000
END:STANDARD
END:VTIMEZONE
BEGIN:VEVENT
DTSTART;TZID=Europe/Madrid:20260611T180000
DTEND;TZID=Europe/Madrid:20260611T213000
DTSTAMP:20260422T115201
CREATED:20260414T090918Z
LAST-MODIFIED:20260414T093652Z
UID:9288-1781200800-1781213400@gamechangers.com.es
SUMMARY:Marca personal estratégica
DESCRIPTION:.
URL:https://gamechangers.com.es/evento/marca-personal-estrategica/
ATTACH;FMTTYPE=image/jpeg:https://gamechangers.com.es/wp-content/uploads/WhatsApp-Image-2026-04-14-at-10.39.51-1.jpeg
END:VEVENT
END:VCALENDAR